BEGIN:VCALENDAR
VERSION:2.0
PRODID:-//Pretty Looks Villa - ECPv6.15.11//NONSGML v1.0//EN
CALSCALE:GREGORIAN
METHOD:PUBLISH
X-ORIGINAL-URL:https://www.prettylooksvilla.com
X-WR-CALDESC:Events for Pretty Looks Villa
REFRESH-INTERVAL;VALUE=DURATION:PT1H
X-Robots-Tag:noindex
X-PUBLISHED-TTL:PT1H
BEGIN:VTIMEZONE
TZID:UTC
BEGIN:STANDARD
TZOFFSETFROM:+0000
TZOFFSETTO:+0000
TZNAME:UTC
DTSTART:20240101T000000
END:STANDARD
END:VTIMEZONE
BEGIN:VEVENT
DTSTART;VALUE=DATE:20250301
DTEND;VALUE=DATE:20250304
DTSTAMP:20260425T120023
CREATED:20250207T170952Z
LAST-MODIFIED:20250207T170952Z
UID:968-1740787200-1741046399@www.prettylooksvilla.com
SUMMARY:Reserved
DESCRIPTION:
URL:https://www.prettylooksvilla.com/event/reserved-38/
END:VEVENT
END:VCALENDAR